Workbook

Sheet Item Lookup
D2: SKU Transition Tool
B6: Search by Old SKU , New SKU, 3M Catalog# or Description Keyword
B9: Old SKU | C9: New SKU | D9: Product Description
B11: {=(_xlfn._xlws.FILTER(Products[#All],(Products[[#All],[Key]]=$B$7),"Sorry, item not found. Please try again using another keyword"))} -> 7000043162 | C11: 700007424 | D11: MLS Medium Bottle Holder | E11: 7000043162 700007424 MLS Medium Bottle Holder | F11: 0
B12: 7100089091 | C12: 700007425 | D12: MLS MAINTENANCE KIT C, NEW SYRINGE | E12: 7100089091 700007425 MLS MAINTENANCE KIT C, NEW SYRINGE | F12: 0
B13: 7000043163 | C13: 700007426 | D13: MLS Large Bottle Holder | E13: 7000043163 700007426 MLS Large Bottle Holder | F13: 0
B14: 7000043163 | C14: 700007426 | D14: MLS Large Bottle Holder | E14: 7000043163 700007426 MLS Large Bottle Holder | F14: 0
B15: 7000138460 | C15: 700007427 | D15: MLS PUMP DILUTER VP9101 | E15: 7000138460 700007427 MLS PUMP DILUTER VP9101 | F15: 0
B16: 7100007903 | C16: 700007428 | D16: MLS TUBING PUMP CLUTCH REAGENT A | E16: 7100007903 700007428 MLS TUBING PUMP CLUTCH REAGENT A | F16: 0
B17: 7100007905 | C17: 700007429 | D17: MLS TUBING PUMP CLUTCH REAGENT B | E17: 7100007905 700007429 MLS TUBING PUMP CLUTCH REAGENT B | F17: 0
B18: 7100007906 | C18: 700007430 | D18: MLS TUBING PUMP CLUTCH REAGENT C | E18: 7100007906 700007430 MLS TUBING PUMP CLUTCH REAGENT C | F18: 0
B19: 7100007907 | C19: 700007431 | D19: MLS TUBING PUMP REAGENT A | E19: 7100007907 700007431 MLS TUBING PUMP REAGENT A | F19: 0
B20: 7100007908 | C20: 700007432 | D20: MLS TUBING PUMP REAGENT B | E20: 7100007908 700007432 MLS TUBING PUMP REAGENT B | F20: 0
B21: 7100007909 | C21: 700007433 | D21: MLS TUBING PUMP REAGENT C | E21: 7100007909 700007433 MLS TUBING PUMP REAGENT C | F21: 0
B22: 7100007910 | C22: 700007434 | D22: MLS TUBING INJECTOR CLUTCH REAGENT A | E22: 7100007910 700007434 MLS TUBING INJECTOR CLUTCH REAGENT A | F22: 0
B23: 7100007911 | C23: 700007435 | D23: MLS TUBING INJECTOR CLUTCH REAGENT B | E23: 7100007911 700007435 MLS TUBING INJECTOR CLUTCH REAGENT B | F23: 0
... B443: 3132 | C443: 700002358 | D443: Glove BLU Nitrile M 10pk | E443: 3132 700002358 Glove BLU Nitrile M 10pk | F443: 0
B444: 403291/1 | C444: 700002359 | D444: COMPANION Disinfectant 1 gal | E444: 403291/1 700002359 COMPANION Disinfectant 1 gal | F444: 0
B445: 404184/1 | C445: 700002360 | D445: Dyne-O-Might 1gal | E445: 404184/1 700002360 Dyne-O-Might 1gal | F445: 0
B446: 404184/275 | C446: 700002361 | D446: Dyne-O-Might 1gal | E446: 404184/275 700002361 Dyne-O-Might 1gal | F446: 0
B447: 404184/5 | C447: 700002362 | D447: Dyne-O-Might 5gal Pail | E447: 404184/5 700002362 Dyne-O-Might 5gal Pail | F447: 0
B448: 404184/55 | C448: 700002363 | D448: Dyne-O-Might 55gal Drum | E448: 404184/55 700002363 Dyne-O-Might 55gal Drum | F448: 0
B449: 404184/55-CAN | C449: 700002364 | D449: Dyne-O-Might 208L Drum CAN | E449: 404184/55-CAN 700002364 Dyne-O-Might 208L Drum CAN | F449: 0
B450: 404184/5-CAN | C450: 700002365 | D450: Dyne-O-Might 18.9L Pail CAN | E450: 404184/5-CAN 700002365 Dyne-O-Might 18.9L Pail CAN | F450: 0
B451: 406047/2.5 | C451: 700002366 | D451: Peraside 5%, 2.5gal Pail | E451: 406047/2.5 700002366 Peraside 5%, 2.5gal Pail | F451: 0
B452: 406047/250-CAN | C452: 700002367 | D452: Peraside 950L (250gal) Tote CAN | E452: 406047/250-CAN 700002367 Peraside 950L (250gal) Tote CAN | F452: 0
B453: 406047/5-CAN | C453: 700002368 | D453: Peraside 5gal CAN | E453: 406047/5-CAN 700002368 Peraside 5gal CAN | F453: 0
B454: 413090/1 | C454: 700002369 | D454: Mycocide 1gal | E454: 413090/1 700002369 Mycocide 1gal | F454: 0
B455: 413090/15 | C455: 700002370 | D455: Mycocide 15gal drum | E455: 413090/15 700002370 Mycocide 15gal drum | F455: 0
... B488: 490912/6 | C488: 700002405 | D488: COMPANION Foaming Hand Soap 16.9oz | E488: 490912/6 700002405 COMPANION Foaming Hand Soap 16.9oz | F488: 0
B489: 57267 | C489: 700002406 | D489: Tryptose Phosphate Broth (Hawkins)- 500G | E489: 57267 700002406 Tryptose Phosphate Broth (Hawkins)- 500G | F489: 0
B490: 602377A | C490: 700002407 | D490: Incubator, Dairy 5 Minute | E490: 602377A 700002407 Incubator, Dairy 5 Minute | F490: 0
B491: 6500 | C491: 700002408 | D491: m-ENDO Broth, 2 mL (box of 50) | E491: 6500 700002408 m-ENDO Broth, 2 mL (box of 50) | F491: 0
B492: 6505 | C492: 700002409 | D492: m-Green Y & F Broth, 2mL (box of 50) | E492: 6505 700002409 m-Green Y & F Broth, 2mL (box of 50) | F492: 0
B493: 6506 | C493: 700002410 | D493: Rapid m-Green Selective Broth Ampoules | E493: 6506 700002410 Rapid m-Green Selective Broth Ampoules | F493: 0
B494: 6510 | C494: 700002411 | D494: Ampouled Media, MI Broth, 2 mL (50/box) | E494: 6510 700002411 Ampouled Media, MI Broth, 2 mL (50/box) | F494: 0
B495: 6511 | C495: 700002412 | D495: m-Ecoli/Coliform Ampoule | E495: 6511 700002412 m-Ecoli/Coliform Ampoule | F495: 0
B496: 6515 | C496: 700002413 | D496: m-TGE Broth, 2.5 mL (box of 50) | E496: 6515 700002413 m-TGE Broth, 2.5 mL (box of 50) | F496: 0
B497: 6516 | C497: 700002414 | D497: m-TGE with Indicator Ampoules | E497: 6516 700002414 m-TGE with Indicator Ampoules | F497: 0
B498: 6520 | C498: 700002415 | D498: Ampouled Media, PRY Broth, 2 mL (50/box) | E498: 6520 700002415 Ampouled Media, PRY Broth, 2 mL (50/box) | F498: 0
B499: 6525 | C499: 700002416 | D499: Orange Serum Broth, 2.5 mL (box of 50) | E499: 6525 700002416 Orange Serum Broth, 2.5 mL (box of 50) | F499: 0
B500: 6530 | C500: 700002417 | D500: m-FC w/ Rosolic Acid, 2 mL (box of 50) | E500: 6530 700002417 m-FC w/ Rosolic Acid, 2 mL (box of 50) | F500: 0
B501: 6530B | C501: 700002418 | D501: m-FC Broth, 2 mL (Box of 500) | E501: 6530B 700002418 m-FC Broth, 2 mL (Box of 500) | F501: 0
B502: 6540 | C502: 700002419 | D502: Pseudomonas Broth, 2 mL (box of 50) | E502: 6540 700002419 Pseudomonas Broth, 2 mL (box of 50) | F502: 0
B503: 680011/15 | C503: 700002421 | D503: Surestop Plus 15gal drum | E503: 680011/15 700002421 Surestop Plus 15gal drum | F503: 0
B504: 680011/55 | C504: 700002422 | D504: Surestop Plus 55gal drum | E504: 680011/55 700002422 Surestop Plus 55gal drum | F504: 0
B505: 6812 | C505: 700002424 | D505: Vacuum Tubing Assembly | E505: 6812 700002424 Vacuum Tubing Assembly | F505: 0
B506: 6821 | C506: 700002425 | D506: Rubber Tubing, 10 feet | E506: 6821 700002425 Rubber Tubing, 10 feet | F506: 0
B507: 6822 | C507: 700002426 | D507: Side-Arm Flask Assembly, 1 L | E507: 6822 700002426 Side-Arm Flask Assembly, 1 L | F507: 0
B508: 6824C | C508: 700002427 | D508: Vacuum Pump, 230V Conversion | E508: 6824C 700002427 Vacuum Pump, 230V Conversion | F508: 0
B509: 6880A | C509: 700002428 | D509: APRY Agar - 500g | E509: 6880A 700002428 APRY Agar - 500g | F509: 0
B510: 6904A | C510: 700002430 | D510: Media, YM-11 Agar, 500 g | E510: 6904A 700002430 Media, YM-11 Agar, 500 g | F510: 0
B511: 6912E | C511: 700002434 | D511: Media, Chlortetracycline-HCI | E511: 6912E 700002434 Media, Chlortetracycline-HCI | F511: 0
B512: 7218T | C512: 700002441 | D512: GN Broth (Hajna) - 5kg | E512: 7218T 700002441 GN Broth (Hajna) - 5kg | F512: 0
B513: 7236A | C513: 700002442 | D513: MacConkey Agar w/o Crystal Violet 500g | E513: 7236A 700002442 MacConkey Agar w/o Crystal Violet 500g | F513: 0
B514: 7236C | C514: 700002443 | D514: MacConkey Agar w/o Crystal Violet 10kg | E514: 7236C 700002443 MacConkey Agar w/o Crystal Violet 10kg | F514: 0
B515: 7236T | C515: 700002444 | D515: MacConkey Agar w/o Crystal Violet 5kg | E515: 7236T 700002444 MacConkey Agar w/o Crystal Violet 5kg | F515: 0
B516: 7245A | C516: 700002445 | D516: Lowenstein-Jensen Medium 500g | E516: 7245A 700002445 Lowenstein-Jensen Medium 500g | F516: 0
B517: 7378A | C517: 700002447 | D517: MacConkey Agar w/o CV & Salt 500g | E517: 7378A 700002447 MacConkey Agar w/o CV & Salt 500g | F517: 0
B518: 7385A | C518: 700002448 | D518: Clostridium Difficile Agar 500g | E518: 7385A 700002448 Clostridium Difficile Agar 500g | F518: 0
B519: 7385C | C519: 700002449 | D519: Clostridium Difficile Agar 10kg | E519: 7385C 700002449 Clostridium Difficile Agar 10kg | F519: 0
... B532: 7992N | C532: 700002470 | D532: Tween 80 - 800ml | E532: 7992N 700002470 Tween 80 - 800ml | F532: 0
B533: 8005 | C533: 700002471 | D533: Reveal for CP4 (Roundup Ready) | E533: 8005 700002471 Reveal for CP4 (Roundup Ready) | F533: 0
B534: 8006 | C534: 700002472 | D534: Reveal CP4 Devices Only | E534: 8006 700002472 Reveal CP4 Devices Only | F534: 0
B535: 8010K | C535: 700002473 | D535: Agri-Screen for Aflatoxin (Kikkoman) | E535: 8010K 700002473 Agri-Screen for Aflatoxin (Kikkoman) | F535: 0
B536: 8016 | C536: 700002474 | D536: Reveal for Aflatoxin - Ethanol | E536: 8016 700002474 Reveal for Aflatoxin - Ethanol | F536: 0
B537: 8016B | C537: 700002475 | D537: Reveal Aflatoxin-Ethanol Bulk Kit (100) | E537: 8016B 700002475 Reveal Aflatoxin-Ethanol Bulk Kit (100) | F537: 0
B538: 8018 | C538: 700002476 | D538: Reveal MAX for Aflatoxin | E538: 8018 700002476 Reveal MAX for Aflatoxin | F538: 0
B539: 8018B | C539: 700002477 | D539: Reveal MAX for Aflatoxin Bulk Kit (50) | E539: 8018B 700002477 Reveal MAX for Aflatoxin Bulk Kit (50) | F539: 0
B540: 8019 | C540: 700002478 | D540: Veratox Aflatoxin M1 | E540: 8019 700002478 Veratox Aflatoxin M1 | F540: 0
B541: 8030 | C541: 700002479 | D541: Veratox for Aflatoxin | E541: 8030 700002479 Veratox for Aflatoxin | F541: 0
B542: 8031 | C542: 700002480 | D542: Veratox for Aflatoxin HS 8031 | E542: 8031 700002480 Veratox for Aflatoxin HS 8031 | F542: 0
B543: 8031B | C543: 700002481 | D543: Veratox for Aflatoxin HS B1 | E543: 8031B 700002481 Veratox for Aflatoxin HS B1 | F543: 0
B544: 8032 | C544: 700002482 | D544: Veratox HS MAX for Aflatoxin Total | E544: 8032 700002482 Veratox HS MAX for Aflatoxin Total | F544: 0
B545: 8035 | C545: 700002483 | D545: Veratox MAX for Total Aflatoxin | E545: 8035 700002483 Veratox MAX for Total Aflatoxin | F545: 0
B546: 8052 | C546: 700002487 | D546: Mycotoxin Extraction Kit | E546: 8052 700002487 Mycotoxin Extraction Kit | F546: 0
B547: 8055 | C547: 700002488 | D547: 70% Methanol, 1 Gallon | E547: 8055 700002488 70% Methanol, 1 Gallon | F547: 0
B548: 8056 | C548: 700002489 | D548: 70% Methanol, 1 Gallon (case of 4) | E548: 8056 700002489 70% Methanol, 1 Gallon (case of 4) | F548: 0
B549: 8061 | C549: 700002490 | D549: Control - 5 ppb Aflatoxin | E549: 8061 700002490 Control - 5 ppb Aflatoxin | F549: 0
B550: 8062 | C550: 700002491 | D550: Control - 10 ppb Aflatoxin | E550: 8062 700002491 Control - 10 ppb Aflatoxin | F550: 0
B551: 8073 | C551: 700002492 | D551: 65% Ethanol - 1 Gallon - GROUND | E551: 8073 700002492 65% Ethanol - 1 Gallon - GROUND | F551: 0
B552: 8074 | C552: 700002493 | D552: 65% Ethanol - 4 x 1 Gallons - GROUND | E552: 8074 700002493 65% Ethanol - 4 x 1 Gallons - GROUND | F552: 0
B553: 8075 | C553: 700002494 | D553: Reveal Q+ for Aflatoxin - Endpoint | E553: 8075 700002494 Reveal Q+ for Aflatoxin - Endpoint | F553: 0
B554: 8076 | C554: 700002495 | D554: Aflatoxin Check Sample 8076 Low 10g | E554: 8076 700002495 Aflatoxin Check Sample 8076 Low 10g | F554: 0
B555: 8077 | C555: 700002496 | D555: Aflatoxin Check Sample 8077 High 10g | E555: 8077 700002496 Aflatoxin Check Sample 8077 High 10g | F555: 0
B556: 8085 | C556: 700002497 | D556: Reveal Q+ for Aflatoxin | E556: 8085 700002497 Reveal Q+ for Aflatoxin | F556: 0
B557: 8085B | C557: 700002498 | D557: Reveal Q+ for Aflatoxin - Bulk Kit (100) | E557: 8085B 700002498 Reveal Q+ for Aflatoxin - Bulk Kit (100) | F557: 0
B558: 8088 | C558: 700002499 | D558: Reveal Q+ MAX for Aflatoxin | E558: 8088 700002499 Reveal Q+ MAX for Aflatoxin | F558: 0
B559: 8088B | C559: 700002500 | D559: Reveal Q+ MAX Aflatoxin Bulk Kit (50) | E559: 8088B 700002500 Reveal Q+ MAX Aflatoxin Bulk Kit (50) | F559: 0
B560: 8092 | C560: 700002503 | D560: Aflatoxin MRM, Low, 1 kg | E560: 8092 700002503 Aflatoxin MRM, Low, 1 kg | F560: 0
B561: 8093 | C561: 700002504 | D561: Aflatoxin MRM, Medium, 1 kg | E561: 8093 700002504 Aflatoxin MRM, Medium, 1 kg | F561: 0
B562: 8094 | C562: 700002505 | D562: Aflatoxin MRM, High, 1 kg | E562: 8094 700002505 Aflatoxin MRM, High, 1 kg | F562: 0
B563: 8095 | C563: 700002506 | D563: Aflatoxin MRM, NDA, 100 g | E563: 8095 700002506 Aflatoxin MRM, NDA, 100 g | F563: 0
B564: 8097 | C564: 700002508 | D564: Aflatoxin MRM 8097 Med 100g | E564: 8097 700002508 Aflatoxin MRM 8097 Med 100g | F564: 0
B565: 8098 | C565: 700002509 | D565: Aflatoxin MRM 8098 High 100g | E565: 8098 700002509 Aflatoxin MRM 8098 High 100g | F565: 0
B566: 8100 | C566: 700002511 | D566: Reveal for Ruminant in Feed | E566: 8100 700002511 Reveal for Ruminant in Feed | F566: 0
B567: 8105 | C567: 700002512 | D567: Reveal for Ruminant in MBM | E567: 8105 700002512 Reveal for Ruminant in MBM | F567: 0
B568: 8110 | C568: 700002513 | D568: Veratox for Zearalenone | E568: 8110 700002513 Veratox for Zearalenone | F568: 0
B569: 8135 | C569: 700002514 | D569: Veratox MAX for Zearalenone | E569: 8135 700002514 Veratox MAX for Zearalenone | F569: 0
B570: 8185 | C570: 700002515 | D570: Reveal Q+ for Zearalenone | E570: 8185 700002515 Reveal Q+ for Zearalenone | F570: 0
...

Sheet table
A1: Old | B1: New | C1: Desc | D1: Compounded | E1: Key
A2: 7000043162 | B2: 700007424 | C2: MLS Medium Bottle Holder | D2: =Products[[#This Row],[Old]]&" "&Products[[#This Row],[New]]&" "&Products[[#This Row],[Desc]] -> 7000043162 700007424 MLS Medium Bottle Holder | E2: =IF(ISNUMBER(SEARCH('Item Lookup'!$B$7,Products[[#This Row],[Compounded]],1)),'Item Lookup'!$B$7,"") -> 0
A3: 7100089091 | B3: 700007425 | C3: MLS MAINTENANCE KIT C, NEW SYRINGE | D3: =Products[[#This Row],[Old]]&" "&Products[[#This Row],[New]]&" "&Products[[#This Row],[Desc]] -> 7100089091 700007425 MLS MAINTENANCE KIT C, NEW SYRINGE | E3: =IF(ISNUMBER(SEARCH('Item Lookup'!$B$7,Products[[#This Row],[Compounded]],1)),'Item Lookup'!$B$7,"") -> 0
A4: 7000043163 | B4: 700007426 | C4: MLS Large Bottle Holder | D4: =Products[[#This Row],[Old]]&" "&Products[[#This Row],[New]]&" "&Products[[#This Row],[Desc]] -> 7000043163 700007426 MLS Large Bottle Holder | E4: =IF(ISNUMBER(SEARCH('Item Lookup'!$B$7,Products[[#This Row],[Compounded]],1)),'Item Lookup'!$B$7,"") -> 0
A5: 7000043163 | B5: 700007426 | C5: MLS Large Bottle Holder | D5: =Products[[#This Row],[Old]]&" "&Products[[#This Row],[New]]&" "&Products[[#This Row],[Desc]] -> 7000043163 700007426 MLS Large Bottle Holder | E5: =IF(ISNUMBER(SEARCH('Item Lookup'!$B$7,Products[[#This Row],[Compounded]],1)),'Item Lookup'!$B$7,"") -> 0
A6: 7000138460 | B6: 700007427 | C6: MLS PUMP DILUTER VP9101 | D6: =Products[[#This Row],[Old]]&" "&Products[[#This Row],[New]]&" "&Products[[#This Row],[Desc]] -> 7000138460 700007427 MLS PUMP DILUTER VP9101 | E6: =IF(ISNUMBER(SEARCH('Item Lookup'!$B$7,Products[[#This Row],[Compounded]],1)),'Item Lookup'!$B$7,"") -> 0
A7: 7100007903 | B7: 700007428 | C7: MLS TUBING PUMP CLUTCH REAGENT A | D7: =Products[[#This Row],[Old]]&" "&Products[[#This Row],[New]]&" "&Products[[#This Row],[Desc]] -> 7100007903 700007428 MLS TUBING PUMP CLUTCH REAGENT A | E7: =IF(ISNUMBER(SEARCH('Item Lookup'!$B$7,Products[[#This Row],[Compounded]],1)),'Item Lookup'!$B$7,"") -> 0
A8: 7100007905 | B8: 700007429 | C8: MLS TUBING PUMP CLUTCH REAGENT B | D8: =Products[[#This Row],[Old]]&" "&Products[[#This Row],[New]]&" "&Products[[#This Row],[Desc]] -> 7100007905 700007429 MLS TUBING PUMP CLUTCH REAGENT B | E8: =IF(ISNUMBER(SEARCH('Item Lookup'!$B$7,Products[[#This Row],[Compounded]],1)),'Item Lookup'!$B$7,"") -> 0
A9: 7100007906 | B9: 700007430 | C9: MLS TUBING PUMP CLUTCH REAGENT C | D9: =Products[[#This Row],[Old]]&" "&Products[[#This Row],[New]]&" "&Products[[#This Row],[Desc]] -> 7100007906 700007430 MLS TUBING PUMP CLUTCH REAGENT C | E9: =IF(ISNUMBER(SEARCH('Item Lookup'!$B$7,Products[[#This Row],[Compounded]],1)),'Item Lookup'!$B$7,"") -> 0
A10: 7100007907 | B10: 700007431 | C10: MLS TUBING PUMP REAGENT A | D10: =Products[[#This Row],[Old]]&" "&Products[[#This Row],[New]]&" "&Products[[#This Row],[Desc]] -> 7100007907 700007431 MLS TUBING PUMP REAGENT A | E10: =IF(ISNUMBER(SEARCH('Item Lookup'!$B$7,Products[[#This Row],[Compounded]],1)),'Item Lookup'!$B$7,"") -> 0
A11: 7100007908 | B11: 700007432 | C11: MLS TUBING PUMP REAGENT B | D11: =Products[[#This Row],[Old]]&" "&Products[[#This Row],[New]]&" "&Products[[#This Row],[Desc]] -> 7100007908 700007432 MLS TUBING PUMP REAGENT B | E11: =IF(ISNUMBER(SEARCH('Item Lookup'!$B$7,Products[[#This Row],[Compounded]],1)),'Item Lookup'!$B$7,"") -> 0
A12: 7100007909 | B12: 700007433 | C12: MLS TUBING PUMP REAGENT C | D12: =Products[[#This Row],[Old]]&" "&Products[[#This Row],[New]]&" "&Products[[#This Row],[Desc]] -> 7100007909 700007433 MLS TUBING PUMP REAGENT C | E12: =IF(ISNUMBER(SEARCH('Item Lookup'!$B$7,Products[[#This Row],[Compounded]],1)),'Item Lookup'!$B$7,"") -> 0
A13: 7100007910 | B13: 700007434 | C13: MLS TUBING INJECTOR CLUTCH REAGENT A | D13: =Products[[#This Row],[Old]]&" "&Products[[#This Row],[New]]&" "&Products[[#This Row],[Desc]] -> 7100007910 700007434 MLS TUBING INJECTOR CLUTCH REAGENT A | E13: =IF(ISNUMBER(SEARCH('Item Lookup'!$B$7,Products[[#This Row],[Compounded]],1)),'Item Lookup'!$B$7,"") -> 0
... A434: 3132 | B434: 700002358 | C434: Glove BLU Nitrile M 10pk | D434: =Products[[#This Row],[Old]]&" "&Products[[#This Row],[New]]&" "&Products[[#This Row],[Desc]] -> 3132 700002358 Glove BLU Nitrile M 10pk | E434: =IF(ISNUMBER(SEARCH('Item Lookup'!$B$7,Products[[#This Row],[Compounded]],1)),'Item Lookup'!$B$7,"") -> 0
A435: 403291/1 | B435: 700002359 | C435: COMPANION Disinfectant 1 gal | D435: =Products[[#This Row],[Old]]&" "&Products[[#This Row],[New]]&" "&Products[[#This Row],[Desc]] -> 403291/1 700002359 COMPANION Disinfectant 1 gal | E435: =IF(ISNUMBER(SEARCH('Item Lookup'!$B$7,Products[[#This Row],[Compounded]],1)),'Item Lookup'!$B$7,"") -> 0
A436: 404184/1 | B436: 700002360 | C436: Dyne-O-Might 1gal | D436: =Products[[#This Row],[Old]]&" "&Products[[#This Row],[New]]&" "&Products[[#This Row],[Desc]] -> 404184/1 700002360 Dyne-O-Might 1gal | E436: =IF(ISNUMBER(SEARCH('Item Lookup'!$B$7,Products[[#This Row],[Compounded]],1)),'Item Lookup'!$B$7,"") -> 0
A437: 404184/275 | B437: 700002361 | C437: Dyne-O-Might 1gal | D437: =Products[[#This Row],[Old]]&" "&Products[[#This Row],[New]]&" "&Products[[#This Row],[Desc]] -> 404184/275 700002361 Dyne-O-Might 1gal | E437: =IF(ISNUMBER(SEARCH('Item Lookup'!$B$7,Products[[#This Row],[Compounded]],1)),'Item Lookup'!$B$7,"") -> 0
A438: 404184/5 | B438: 700002362 | C438: Dyne-O-Might 5gal Pail | D438: =Products[[#This Row],[Old]]&" "&Products[[#This Row],[New]]&" "&Products[[#This Row],[Desc]] -> 404184/5 700002362 Dyne-O-Might 5gal Pail | E438: =IF(ISNUMBER(SEARCH('Item Lookup'!$B$7,Products[[#This Row],[Compounded]],1)),'Item Lookup'!$B$7,"") -> 0
A439: 404184/55 | B439: 700002363 | C439: Dyne-O-Might 55gal Drum | D439: =Products[[#This Row],[Old]]&" "&Products[[#This Row],[New]]&" "&Products[[#This Row],[Desc]] -> 404184/55 700002363 Dyne-O-Might 55gal Drum | E439: =IF(ISNUMBER(SEARCH('Item Lookup'!$B$7,Products[[#This Row],[Compounded]],1)),'Item Lookup'!$B$7,"") -> 0
A440: 404184/55-CAN | B440: 700002364 | C440: Dyne-O-Might 208L Drum CAN | D440: =Products[[#This Row],[Old]]&" "&Products[[#This Row],[New]]&" "&Products[[#This Row],[Desc]] -> 404184/55-CAN 700002364 Dyne-O-Might 208L Drum CAN | E440: =IF(ISNUMBER(SEARCH('Item Lookup'!$B$7,Products[[#This Row],[Compounded]],1)),'Item Lookup'!$B$7,"") -> 0
A441: 404184/5-CAN | B441: 700002365 | C441: Dyne-O-Might 18.9L Pail CAN | D441: =Products[[#This Row],[Old]]&" "&Products[[#This Row],[New]]&" "&Products[[#This Row],[Desc]] -> 404184/5-CAN 700002365 Dyne-O-Might 18.9L Pail CAN | E441: =IF(ISNUMBER(SEARCH('Item Lookup'!$B$7,Products[[#This Row],[Compounded]],1)),'Item Lookup'!$B$7,"") -> 0
A442: 406047/2.5 | B442: 700002366 | C442: Peraside 5%, 2.5gal Pail | D442: =Products[[#This Row],[Old]]&" "&Products[[#This Row],[New]]&" "&Products[[#This Row],[Desc]] -> 406047/2.5 700002366 Peraside 5%, 2.5gal Pail | E442: =IF(ISNUMBER(SEARCH('Item Lookup'!$B$7,Products[[#This Row],[Compounded]],1)),'Item Lookup'!$B$7,"") -> 0
A443: 406047/250-CAN | B443: 700002367 | C443: Peraside 950L (250gal) Tote CAN | D443: =Products[[#This Row],[Old]]&" "&Products[[#This Row],[New]]&" "&Products[[#This Row],[Desc]] -> 406047/250-CAN 700002367 Peraside 950L (250gal) Tote CAN | E443: =IF(ISNUMBER(SEARCH('Item Lookup'!$B$7,Products[[#This Row],[Compounded]],1)),'Item Lookup'!$B$7,"") -> 0
A444: 406047/5-CAN | B444: 700002368 | C444: Peraside 5gal CAN | D444: =Products[[#This Row],[Old]]&" "&Products[[#This Row],[New]]&" "&Products[[#This Row],[Desc]] -> 406047/5-CAN 700002368 Peraside 5gal CAN | E444: =IF(ISNUMBER(SEARCH('Item Lookup'!$B$7,Products[[#This Row],[Compounded]],1)),'Item Lookup'!$B$7,"") -> 0
A445: 413090/1 | B445: 700002369 | C445: Mycocide 1gal | D445: =Products[[#This Row],[Old]]&" "&Products[[#This Row],[New]]&" "&Products[[#This Row],[Desc]] -> 413090/1 700002369 Mycocide 1gal | E445: =IF(ISNUMBER(SEARCH('Item Lookup'!$B$7,Products[[#This Row],[Compounded]],1)),'Item Lookup'!$B$7,"") -> 0
A446: 413090/15 | B446: 700002370 | C446: Mycocide 15gal drum | D446: =Products[[#This Row],[Old]]&" "&Products[[#This Row],[New]]&" "&Products[[#This Row],[Desc]] -> 413090/15 700002370 Mycocide 15gal drum | E446: =IF(ISNUMBER(SEARCH('Item Lookup'!$B$7,Products[[#This Row],[Compounded]],1)),'Item Lookup'!$B$7,"") -> 0
... A479: 490912/6 | B479: 700002405 | C479: COMPANION Foaming Hand Soap 16.9oz | D479: =Products[[#This Row],[Old]]&" "&Products[[#This Row],[New]]&" "&Products[[#This Row],[Desc]] -> 490912/6 700002405 COMPANION Foaming Hand Soap 16.9oz | E479: =IF(ISNUMBER(SEARCH('Item Lookup'!$B$7,Products[[#This Row],[Compounded]],1)),'Item Lookup'!$B$7,"") -> 0
A480: 57267 | B480: 700002406 | C480: Tryptose Phosphate Broth (Hawkins)- 500G | D480: =Products[[#This Row],[Old]]&" "&Products[[#This Row],[New]]&" "&Products[[#This Row],[Desc]] -> 57267 700002406 Tryptose Phosphate Broth (Hawkins)- 500G | E480: =IF(ISNUMBER(SEARCH('Item Lookup'!$B$7,Products[[#This Row],[Compounded]],1)),'Item Lookup'!$B$7,"") -> 0
A481: 602377A | B481: 700002407 | C481: Incubator, Dairy 5 Minute | D481: =Products[[#This Row],[Old]]&" "&Products[[#This Row],[New]]&" "&Products[[#This Row],[Desc]] -> 602377A 700002407 Incubator, Dairy 5 Minute | E481: =IF(ISNUMBER(SEARCH('Item Lookup'!$B$7,Products[[#This Row],[Compounded]],1)),'Item Lookup'!$B$7,"") -> 0
A482: 6500 | B482: 700002408 | C482: m-ENDO Broth, 2 mL (box of 50) | D482: =Products[[#This Row],[Old]]&" "&Products[[#This Row],[New]]&" "&Products[[#This Row],[Desc]] -> 6500 700002408 m-ENDO Broth, 2 mL (box of 50) | E482: =IF(ISNUMBER(SEARCH('Item Lookup'!$B$7,Products[[#This Row],[Compounded]],1)),'Item Lookup'!$B$7,"") -> 0
A483: 6505 | B483: 700002409 | C483: m-Green Y & F Broth, 2mL (box of 50) | D483: =Products[[#This Row],[Old]]&" "&Products[[#This Row],[New]]&" "&Products[[#This Row],[Desc]] -> 6505 700002409 m-Green Y & F Broth, 2mL (box of 50) | E483: =IF(ISNUMBER(SEARCH('Item Lookup'!$B$7,Products[[#This Row],[Compounded]],1)),'Item Lookup'!$B$7,"") -> 0
A484: 6506 | B484: 700002410 | C484: Rapid m-Green Selective Broth Ampoules | D484: =Products[[#This Row],[Old]]&" "&Products[[#This Row],[New]]&" "&Products[[#This Row],[Desc]] -> 6506 700002410 Rapid m-Green Selective Broth Ampoules | E484: =IF(ISNUMBER(SEARCH('Item Lookup'!$B$7,Products[[#This Row],[Compounded]],1)),'Item Lookup'!$B$7,"") -> 0
A485: 6510 | B485: 700002411 | C485: Ampouled Media, MI Broth, 2 mL (50/box) | D485: =Products[[#This Row],[Old]]&" "&Products[[#This Row],[New]]&" "&Products[[#This Row],[Desc]] -> 6510 700002411 Ampouled Media, MI Broth, 2 mL (50/box) | E485: =IF(ISNUMBER(SEARCH('Item Lookup'!$B$7,Products[[#This Row],[Compounded]],1)),'Item Lookup'!$B$7,"") -> 0
A486: 6511 | B486: 700002412 | C486: m-Ecoli/Coliform Ampoule | D486: =Products[[#This Row],[Old]]&" "&Products[[#This Row],[New]]&" "&Products[[#This Row],[Desc]] -> 6511 700002412 m-Ecoli/Coliform Ampoule | E486: =IF(ISNUMBER(SEARCH('Item Lookup'!$B$7,Products[[#This Row],[Compounded]],1)),'Item Lookup'!$B$7,"") -> 0
A487: 6515 | B487: 700002413 | C487: m-TGE Broth, 2.5 mL (box of 50) | D487: =Products[[#This Row],[Old]]&" "&Products[[#This Row],[New]]&" "&Products[[#This Row],[Desc]] -> 6515 700002413 m-TGE Broth, 2.5 mL (box of 50) | E487: =IF(ISNUMBER(SEARCH('Item Lookup'!$B$7,Products[[#This Row],[Compounded]],1)),'Item Lookup'!$B$7,"") -> 0
A488: 6516 | B488: 700002414 | C488: m-TGE with Indicator Ampoules | D488: =Products[[#This Row],[Old]]&" "&Products[[#This Row],[New]]&" "&Products[[#This Row],[Desc]] -> 6516 700002414 m-TGE with Indicator Ampoules | E488: =IF(ISNUMBER(SEARCH('Item Lookup'!$B$7,Products[[#This Row],[Compounded]],1)),'Item Lookup'!$B$7,"") -> 0
A489: 6520 | B489: 700002415 | C489: Ampouled Media, PRY Broth, 2 mL (50/box) | D489: =Products[[#This Row],[Old]]&" "&Products[[#This Row],[New]]&" "&Products[[#This Row],[Desc]] -> 6520 700002415 Ampouled Media, PRY Broth, 2 mL (50/box) | E489: =IF(ISNUMBER(SEARCH('Item Lookup'!$B$7,Products[[#This Row],[Compounded]],1)),'Item Lookup'!$B$7,"") -> 0
A490: 6525 | B490: 700002416 | C490: Orange Serum Broth, 2.5 mL (box of 50) | D490: =Products[[#This Row],[Old]]&" "&Products[[#This Row],[New]]&" "&Products[[#This Row],[Desc]] -> 6525 700002416 Orange Serum Broth, 2.5 mL (box of 50) | E490: =IF(ISNUMBER(SEARCH('Item Lookup'!$B$7,Products[[#This Row],[Compounded]],1)),'Item Lookup'!$B$7,"") -> 0
A491: 6530 | B491: 700002417 | C491: m-FC w/ Rosolic Acid, 2 mL (box of 50) | D491: =Products[[#This Row],[Old]]&" "&Products[[#This Row],[New]]&" "&Products[[#This Row],[Desc]] -> 6530 700002417 m-FC w/ Rosolic Acid, 2 mL (box of 50) | E491: =IF(ISNUMBER(SEARCH('Item Lookup'!$B$7,Products[[#This Row],[Compounded]],1)),'Item Lookup'!$B$7,"") -> 0
A492: 6530B | B492: 700002418 | C492: m-FC Broth, 2 mL (Box of 500) | D492: =Products[[#This Row],[Old]]&" "&Products[[#This Row],[New]]&" "&Products[[#This Row],[Desc]] -> 6530B 700002418 m-FC Broth, 2 mL (Box of 500) | E492: =IF(ISNUMBER(SEARCH('Item Lookup'!$B$7,Products[[#This Row],[Compounded]],1)),'Item Lookup'!$B$7,"") -> 0
A493: 6540 | B493: 700002419 | C493: Pseudomonas Broth, 2 mL (box of 50) | D493: =Products[[#This Row],[Old]]&" "&Products[[#This Row],[New]]&" "&Products[[#This Row],[Desc]] -> 6540 700002419 Pseudomonas Broth, 2 mL (box of 50) | E493: =IF(ISNUMBER(SEARCH('Item Lookup'!$B$7,Products[[#This Row],[Compounded]],1)),'Item Lookup'!$B$7,"") -> 0
A494: 680011/15 | B494: 700002421 | C494: Surestop Plus 15gal drum | D494: =Products[[#This Row],[Old]]&" "&Products[[#This Row],[New]]&" "&Products[[#This Row],[Desc]] -> 680011/15 700002421 Surestop Plus 15gal drum | E494: =IF(ISNUMBER(SEARCH('Item Lookup'!$B$7,Products[[#This Row],[Compounded]],1)),'Item Lookup'!$B$7,"") -> 0
A495: 680011/55 | B495: 700002422 | C495: Surestop Plus 55gal drum | D495: =Products[[#This Row],[Old]]&" "&Products[[#This Row],[New]]&" "&Products[[#This Row],[Desc]] -> 680011/55 700002422 Surestop Plus 55gal drum | E495: =IF(ISNUMBER(SEARCH('Item Lookup'!$B$7,Products[[#This Row],[Compounded]],1)),'Item Lookup'!$B$7,"") -> 0
A496: 6812 | B496: 700002424 | C496: Vacuum Tubing Assembly | D496: =Products[[#This Row],[Old]]&" "&Products[[#This Row],[New]]&" "&Products[[#This Row],[Desc]] -> 6812 700002424 Vacuum Tubing Assembly | E496: =IF(ISNUMBER(SEARCH('Item Lookup'!$B$7,Products[[#This Row],[Compounded]],1)),'Item Lookup'!$B$7,"") -> 0
A497: 6821 | B497: 700002425 | C497: Rubber Tubing, 10 feet | D497: =Products[[#This Row],[Old]]&" "&Products[[#This Row],[New]]&" "&Products[[#This Row],[Desc]] -> 6821 700002425 Rubber Tubing, 10 feet | E497: =IF(ISNUMBER(SEARCH('Item Lookup'!$B$7,Products[[#This Row],[Compounded]],1)),'Item Lookup'!$B$7,"") -> 0
A498: 6822 | B498: 700002426 | C498: Side-Arm Flask Assembly, 1 L | D498: =Products[[#This Row],[Old]]&" "&Products[[#This Row],[New]]&" "&Products[[#This Row],[Desc]] -> 6822 700002426 Side-Arm Flask Assembly, 1 L | E498: =IF(ISNUMBER(SEARCH('Item Lookup'!$B$7,Products[[#This Row],[Compounded]],1)),'Item Lookup'!$B$7,"") -> 0
A499: 6824C | B499: 700002427 | C499: Vacuum Pump, 230V Conversion | D499: =Products[[#This Row],[Old]]&" "&Products[[#This Row],[New]]&" "&Products[[#This Row],[Desc]] -> 6824C 700002427 Vacuum Pump, 230V Conversion | E499: =IF(ISNUMBER(SEARCH('Item Lookup'!$B$7,Products[[#This Row],[Compounded]],1)),'Item Lookup'!$B$7,"") -> 0
A500: 6880A | B500: 700002428 | C500: APRY Agar - 500g | D500: =Products[[#This Row],[Old]]&" "&Products[[#This Row],[New]]&" "&Products[[#This Row],[Desc]] -> 6880A 700002428 APRY Agar - 500g | E500: =IF(ISNUMBER(SEARCH('Item Lookup'!$B$7,Products[[#This Row],[Compounded]],1)),'Item Lookup'!$B$7,"") -> 0
A501: 6904A | B501: 700002430 | C501: Media, YM-11 Agar, 500 g | D501: =Products[[#This Row],[Old]]&" "&Products[[#This Row],[New]]&" "&Products[[#This Row],[Desc]] -> 6904A 700002430 Media, YM-11 Agar, 500 g | E501: =IF(ISNUMBER(SEARCH('Item Lookup'!$B$7,Products[[#This Row],[Compounded]],1)),'Item Lookup'!$B$7,"") -> 0
A502: 6912E | B502: 700002434 | C502: Media, Chlortetracycline-HCI | D502: =Products[[#This Row],[Old]]&" "&Products[[#This Row],[New]]&" "&Products[[#This Row],[Desc]] -> 6912E 700002434 Media, Chlortetracycline-HCI | E502: =IF(ISNUMBER(SEARCH('Item Lookup'!$B$7,Products[[#This Row],[Compounded]],1)),'Item Lookup'!$B$7,"") -> 0
A503: 7218T | B503: 700002441 | C503: GN Broth (Hajna) - 5kg | D503: =Products[[#This Row],[Old]]&" "&Products[[#This Row],[New]]&" "&Products[[#This Row],[Desc]] -> 7218T 700002441 GN Broth (Hajna) - 5kg | E503: =IF(ISNUMBER(SEARCH('Item Lookup'!$B$7,Products[[#This Row],[Compounded]],1)),'Item Lookup'!$B$7,"") -> 0
A504: 7236A | B504: 700002442 | C504: MacConkey Agar w/o Crystal Violet 500g | D504: =Products[[#This Row],[Old]]&" "&Products[[#This Row],[New]]&" "&Products[[#This Row],[Desc]] -> 7236A 700002442 MacConkey Agar w/o Crystal Violet 500g | E504: =IF(ISNUMBER(SEARCH('Item Lookup'!$B$7,Products[[#This Row],[Compounded]],1)),'Item Lookup'!$B$7,"") -> 0
A505: 7236C | B505: 700002443 | C505: MacConkey Agar w/o Crystal Violet 10kg | D505: =Products[[#This Row],[Old]]&" "&Products[[#This Row],[New]]&" "&Products[[#This Row],[Desc]] -> 7236C 700002443 MacConkey Agar w/o Crystal Violet 10kg | E505: =IF(ISNUMBER(SEARCH('Item Lookup'!$B$7,Products[[#This Row],[Compounded]],1)),'Item Lookup'!$B$7,"") -> 0
A506: 7236T | B506: 700002444 | C506: MacConkey Agar w/o Crystal Violet 5kg | D506: =Products[[#This Row],[Old]]&" "&Products[[#This Row],[New]]&" "&Products[[#This Row],[Desc]] -> 7236T 700002444 MacConkey Agar w/o Crystal Violet 5kg | E506: =IF(ISNUMBER(SEARCH('Item Lookup'!$B$7,Products[[#This Row],[Compounded]],1)),'Item Lookup'!$B$7,"") -> 0
A507: 7245A | B507: 700002445 | C507: Lowenstein-Jensen Medium 500g | D507: =Products[[#This Row],[Old]]&" "&Products[[#This Row],[New]]&" "&Products[[#This Row],[Desc]] -> 7245A 700002445 Lowenstein-Jensen Medium 500g | E507: =IF(ISNUMBER(SEARCH('Item Lookup'!$B$7,Products[[#This Row],[Compounded]],1)),'Item Lookup'!$B$7,"") -> 0
A508: 7378A | B508: 700002447 | C508: MacConkey Agar w/o CV & Salt 500g | D508: =Products[[#This Row],[Old]]&" "&Products[[#This Row],[New]]&" "&Products[[#This Row],[Desc]] -> 7378A 700002447 MacConkey Agar w/o CV & Salt 500g | E508: =IF(ISNUMBER(SEARCH('Item Lookup'!$B$7,Products[[#This Row],[Compounded]],1)),'Item Lookup'!$B$7,"") -> 0
A509: 7385A | B509: 700002448 | C509: Clostridium Difficile Agar 500g | D509: =Products[[#This Row],[Old]]&" "&Products[[#This Row],[New]]&" "&Products[[#This Row],[Desc]] -> 7385A 700002448 Clostridium Difficile Agar 500g | E509: =IF(ISNUMBER(SEARCH('Item Lookup'!$B$7,Products[[#This Row],[Compounded]],1)),'Item Lookup'!$B$7,"") -> 0
A510: 7385C | B510: 700002449 | C510: Clostridium Difficile Agar 10kg | D510: =Products[[#This Row],[Old]]&" "&Products[[#This Row],[New]]&" "&Products[[#This Row],[Desc]] -> 7385C 700002449 Clostridium Difficile Agar 10kg | E510: =IF(ISNUMBER(SEARCH('Item Lookup'!$B$7,Products[[#This Row],[Compounded]],1)),'Item Lookup'!$B$7,"") -> 0
... A523: 7992N | B523: 700002470 | C523: Tween 80 - 800ml | D523: =Products[[#This Row],[Old]]&" "&Products[[#This Row],[New]]&" "&Products[[#This Row],[Desc]] -> 7992N 700002470 Tween 80 - 800ml | E523: =IF(ISNUMBER(SEARCH('Item Lookup'!$B$7,Products[[#This Row],[Compounded]],1)),'Item Lookup'!$B$7,"") -> 0
A524: 8005 | B524: 700002471 | C524: Reveal for CP4 (Roundup Ready) | D524: =Products[[#This Row],[Old]]&" "&Products[[#This Row],[New]]&" "&Products[[#This Row],[Desc]] -> 8005 700002471 Reveal for CP4 (Roundup Ready) | E524: =IF(ISNUMBER(SEARCH('Item Lookup'!$B$7,Products[[#This Row],[Compounded]],1)),'Item Lookup'!$B$7,"") -> 0
A525: 8006 | B525: 700002472 | C525: Reveal CP4 Devices Only | D525: =Products[[#This Row],[Old]]&" "&Products[[#This Row],[New]]&" "&Products[[#This Row],[Desc]] -> 8006 700002472 Reveal CP4 Devices Only | E525: =IF(ISNUMBER(SEARCH('Item Lookup'!$B$7,Products[[#This Row],[Compounded]],1)),'Item Lookup'!$B$7,"") -> 0
A526: 8010K | B526: 700002473 | C526: Agri-Screen for Aflatoxin (Kikkoman) | D526: =Products[[#This Row],[Old]]&" "&Products[[#This Row],[New]]&" "&Products[[#This Row],[Desc]] -> 8010K 700002473 Agri-Screen for Aflatoxin (Kikkoman) | E526: =IF(ISNUMBER(SEARCH('Item Lookup'!$B$7,Products[[#This Row],[Compounded]],1)),'Item Lookup'!$B$7,"") -> 0
A527: 8016 | B527: 700002474 | C527: Reveal for Aflatoxin - Ethanol | D527: =Products[[#This Row],[Old]]&" "&Products[[#This Row],[New]]&" "&Products[[#This Row],[Desc]] -> 8016 700002474 Reveal for Aflatoxin - Ethanol | E527: =IF(ISNUMBER(SEARCH('Item Lookup'!$B$7,Products[[#This Row],[Compounded]],1)),'Item Lookup'!$B$7,"") -> 0
A528: 8016B | B528: 700002475 | C528: Reveal Aflatoxin-Ethanol Bulk Kit (100) | D528: =Products[[#This Row],[Old]]&" "&Products[[#This Row],[New]]&" "&Products[[#This Row],[Desc]] -> 8016B 700002475 Reveal Aflatoxin-Ethanol Bulk Kit (100) | E528: =IF(ISNUMBER(SEARCH('Item Lookup'!$B$7,Products[[#This Row],[Compounded]],1)),'Item Lookup'!$B$7,"") -> 0
A529: 8018 | B529: 700002476 | C529: Reveal MAX for Aflatoxin | D529: =Products[[#This Row],[Old]]&" "&Products[[#This Row],[New]]&" "&Products[[#This Row],[Desc]] -> 8018 700002476 Reveal MAX for Aflatoxin | E529: =IF(ISNUMBER(SEARCH('Item Lookup'!$B$7,Products[[#This Row],[Compounded]],1)),'Item Lookup'!$B$7,"") -> 0
A530: 8018B | B530: 700002477 | C530: Reveal MAX for Aflatoxin Bulk Kit (50) | D530: =Products[[#This Row],[Old]]&" "&Products[[#This Row],[New]]&" "&Products[[#This Row],[Desc]] -> 8018B 700002477 Reveal MAX for Aflatoxin Bulk Kit (50) | E530: =IF(ISNUMBER(SEARCH('Item Lookup'!$B$7,Products[[#This Row],[Compounded]],1)),'Item Lookup'!$B$7,"") -> 0
A531: 8019 | B531: 700002478 | C531: Veratox Aflatoxin M1 | D531: =Products[[#This Row],[Old]]&" "&Products[[#This Row],[New]]&" "&Products[[#This Row],[Desc]] -> 8019 700002478 Veratox Aflatoxin M1 | E531: =IF(ISNUMBER(SEARCH('Item Lookup'!$B$7,Products[[#This Row],[Compounded]],1)),'Item Lookup'!$B$7,"") -> 0
A532: 8030 | B532: 700002479 | C532: Veratox for Aflatoxin | D532: =Products[[#This Row],[Old]]&" "&Products[[#This Row],[New]]&" "&Products[[#This Row],[Desc]] -> 8030 700002479 Veratox for Aflatoxin | E532: =IF(ISNUMBER(SEARCH('Item Lookup'!$B$7,Products[[#This Row],[Compounded]],1)),'Item Lookup'!$B$7,"") -> 0
A533: 8031 | B533: 700002480 | C533: Veratox for Aflatoxin HS 8031 | D533: =Products[[#This Row],[Old]]&" "&Products[[#This Row],[New]]&" "&Products[[#This Row],[Desc]] -> 8031 700002480 Veratox for Aflatoxin HS 8031 | E533: =IF(ISNUMBER(SEARCH('Item Lookup'!$B$7,Products[[#This Row],[Compounded]],1)),'Item Lookup'!$B$7,"") -> 0
A534: 8031B | B534: 700002481 | C534: Veratox for Aflatoxin HS B1 | D534: =Products[[#This Row],[Old]]&" "&Products[[#This Row],[New]]&" "&Products[[#This Row],[Desc]] -> 8031B 700002481 Veratox for Aflatoxin HS B1 | E534: =IF(ISNUMBER(SEARCH('Item Lookup'!$B$7,Products[[#This Row],[Compounded]],1)),'Item Lookup'!$B$7,"") -> 0
A535: 8032 | B535: 700002482 | C535: Veratox HS MAX for Aflatoxin Total | D535: =Products[[#This Row],[Old]]&" "&Products[[#This Row],[New]]&" "&Products[[#This Row],[Desc]] -> 8032 700002482 Veratox HS MAX for Aflatoxin Total | E535: =IF(ISNUMBER(SEARCH('Item Lookup'!$B$7,Products[[#This Row],[Compounded]],1)),'Item Lookup'!$B$7,"") -> 0
A536: 8035 | B536: 700002483 | C536: Veratox MAX for Total Aflatoxin | D536: =Products[[#This Row],[Old]]&" "&Products[[#This Row],[New]]&" "&Products[[#This Row],[Desc]] -> 8035 700002483 Veratox MAX for Total Aflatoxin | E536: =IF(ISNUMBER(SEARCH('Item Lookup'!$B$7,Products[[#This Row],[Compounded]],1)),'Item Lookup'!$B$7,"") -> 0
A537: 8052 | B537: 700002487 | C537: Mycotoxin Extraction Kit | D537: =Products[[#This Row],[Old]]&" "&Products[[#This Row],[New]]&" "&Products[[#This Row],[Desc]] -> 8052 700002487 Mycotoxin Extraction Kit | E537: =IF(ISNUMBER(SEARCH('Item Lookup'!$B$7,Products[[#This Row],[Compounded]],1)),'Item Lookup'!$B$7,"") -> 0
A538: 8055 | B538: 700002488 | C538: 70% Methanol, 1 Gallon | D538: =Products[[#This Row],[Old]]&" "&Products[[#This Row],[New]]&" "&Products[[#This Row],[Desc]] -> 8055 700002488 70% Methanol, 1 Gallon | E538: =IF(ISNUMBER(SEARCH('Item Lookup'!$B$7,Products[[#This Row],[Compounded]],1)),'Item Lookup'!$B$7,"") -> 0
A539: 8056 | B539: 700002489 | C539: 70% Methanol, 1 Gallon (case of 4) | D539: =Products[[#This Row],[Old]]&" "&Products[[#This Row],[New]]&" "&Products[[#This Row],[Desc]] -> 8056 700002489 70% Methanol, 1 Gallon (case of 4) | E539: =IF(ISNUMBER(SEARCH('Item Lookup'!$B$7,Products[[#This Row],[Compounded]],1)),'Item Lookup'!$B$7,"") -> 0
A540: 8061 | B540: 700002490 | C540: Control - 5 ppb Aflatoxin | D540: =Products[[#This Row],[Old]]&" "&Products[[#This Row],[New]]&" "&Products[[#This Row],[Desc]] -> 8061 700002490 Control - 5 ppb Aflatoxin | E540: =IF(ISNUMBER(SEARCH('Item Lookup'!$B$7,Products[[#This Row],[Compounded]],1)),'Item Lookup'!$B$7,"") -> 0
A541: 8062 | B541: 700002491 | C541: Control - 10 ppb Aflatoxin | D541: =Products[[#This Row],[Old]]&" "&Products[[#This Row],[New]]&" "&Products[[#This Row],[Desc]] -> 8062 700002491 Control - 10 ppb Aflatoxin | E541: =IF(ISNUMBER(SEARCH('Item Lookup'!$B$7,Products[[#This Row],[Compounded]],1)),'Item Lookup'!$B$7,"") -> 0
A542: 8073 | B542: 700002492 | C542: 65% Ethanol - 1 Gallon - GROUND | D542: =Products[[#This Row],[Old]]&" "&Products[[#This Row],[New]]&" "&Products[[#This Row],[Desc]] -> 8073 700002492 65% Ethanol - 1 Gallon - GROUND | E542: =IF(ISNUMBER(SEARCH('Item Lookup'!$B$7,Products[[#This Row],[Compounded]],1)),'Item Lookup'!$B$7,"") -> 0
A543: 8074 | B543: 700002493 | C543: 65% Ethanol - 4 x 1 Gallons - GROUND | D543: =Products[[#This Row],[Old]]&" "&Products[[#This Row],[New]]&" "&Products[[#This Row],[Desc]] -> 8074 700002493 65% Ethanol - 4 x 1 Gallons - GROUND | E543: =IF(ISNUMBER(SEARCH('Item Lookup'!$B$7,Products[[#This Row],[Compounded]],1)),'Item Lookup'!$B$7,"") -> 0
A544: 8075 | B544: 700002494 | C544: Reveal Q+ for Aflatoxin - Endpoint | D544: =Products[[#This Row],[Old]]&" "&Products[[#This Row],[New]]&" "&Products[[#This Row],[Desc]] -> 8075 700002494 Reveal Q+ for Aflatoxin - Endpoint | E544: =IF(ISNUMBER(SEARCH('Item Lookup'!$B$7,Products[[#This Row],[Compounded]],1)),'Item Lookup'!$B$7,"") -> 0
A545: 8076 | B545: 700002495 | C545: Aflatoxin Check Sample 8076 Low 10g | D545: =Products[[#This Row],[Old]]&" "&Products[[#This Row],[New]]&" "&Products[[#This Row],[Desc]] -> 8076 700002495 Aflatoxin Check Sample 8076 Low 10g | E545: =IF(ISNUMBER(SEARCH('Item Lookup'!$B$7,Products[[#This Row],[Compounded]],1)),'Item Lookup'!$B$7,"") -> 0
A546: 8077 | B546: 700002496 | C546: Aflatoxin Check Sample 8077 High 10g | D546: =Products[[#This Row],[Old]]&" "&Products[[#This Row],[New]]&" "&Products[[#This Row],[Desc]] -> 8077 700002496 Aflatoxin Check Sample 8077 High 10g | E546: =IF(ISNUMBER(SEARCH('Item Lookup'!$B$7,Products[[#This Row],[Compounded]],1)),'Item Lookup'!$B$7,"") -> 0
A547: 8085 | B547: 700002497 | C547: Reveal Q+ for Aflatoxin | D547: =Products[[#This Row],[Old]]&" "&Products[[#This Row],[New]]&" "&Products[[#This Row],[Desc]] -> 8085 700002497 Reveal Q+ for Aflatoxin | E547: =IF(ISNUMBER(SEARCH('Item Lookup'!$B$7,Products[[#This Row],[Compounded]],1)),'Item Lookup'!$B$7,"") -> 0
A548: 8085B | B548: 700002498 | C548: Reveal Q+ for Aflatoxin - Bulk Kit (100) | D548: =Products[[#This Row],[Old]]&" "&Products[[#This Row],[New]]&" "&Products[[#This Row],[Desc]] -> 8085B 700002498 Reveal Q+ for Aflatoxin - Bulk Kit (100) | E548: =IF(ISNUMBER(SEARCH('Item Lookup'!$B$7,Products[[#This Row],[Compounded]],1)),'Item Lookup'!$B$7,"") -> 0
A549: 8088 | B549: 700002499 | C549: Reveal Q+ MAX for Aflatoxin | D549: =Products[[#This Row],[Old]]&" "&Products[[#This Row],[New]]&" "&Products[[#This Row],[Desc]] -> 8088 700002499 Reveal Q+ MAX for Aflatoxin | E549: =IF(ISNUMBER(SEARCH('Item Lookup'!$B$7,Products[[#This Row],[Compounded]],1)),'Item Lookup'!$B$7,"") -> 0
A550: 8088B | B550: 700002500 | C550: Reveal Q+ MAX Aflatoxin Bulk Kit (50) | D550: =Products[[#This Row],[Old]]&" "&Products[[#This Row],[New]]&" "&Products[[#This Row],[Desc]] -> 8088B 700002500 Reveal Q+ MAX Aflatoxin Bulk Kit (50) | E550: =IF(ISNUMBER(SEARCH('Item Lookup'!$B$7,Products[[#This Row],[Compounded]],1)),'Item Lookup'!$B$7,"") -> 0
A551: 8092 | B551: 700002503 | C551: Aflatoxin MRM, Low, 1 kg | D551: =Products[[#This Row],[Old]]&" "&Products[[#This Row],[New]]&" "&Products[[#This Row],[Desc]] -> 8092 700002503 Aflatoxin MRM, Low, 1 kg | E551: =IF(ISNUMBER(SEARCH('Item Lookup'!$B$7,Products[[#This Row],[Compounded]],1)),'Item Lookup'!$B$7,"") -> 0
A552: 8093 | B552: 700002504 | C552: Aflatoxin MRM, Medium, 1 kg | D552: =Products[[#This Row],[Old]]&" "&Products[[#This Row],[New]]&" "&Products[[#This Row],[Desc]] -> 8093 700002504 Aflatoxin MRM, Medium, 1 kg | E552: =IF(ISNUMBER(SEARCH('Item Lookup'!$B$7,Products[[#This Row],[Compounded]],1)),'Item Lookup'!$B$7,"") -> 0
A553: 8094 | B553: 700002505 | C553: Aflatoxin MRM, High, 1 kg | D553: =Products[[#This Row],[Old]]&" "&Products[[#This Row],[New]]&" "&Products[[#This Row],[Desc]] -> 8094 700002505 Aflatoxin MRM, High, 1 kg | E553: =IF(ISNUMBER(SEARCH('Item Lookup'!$B$7,Products[[#This Row],[Compounded]],1)),'Item Lookup'!$B$7,"") -> 0
A554: 8095 | B554: 700002506 | C554: Aflatoxin MRM, NDA, 100 g | D554: =Products[[#This Row],[Old]]&" "&Products[[#This Row],[New]]&" "&Products[[#This Row],[Desc]] -> 8095 700002506 Aflatoxin MRM, NDA, 100 g | E554: =IF(ISNUMBER(SEARCH('Item Lookup'!$B$7,Products[[#This Row],[Compounded]],1)),'Item Lookup'!$B$7,"") -> 0
A555: 8097 | B555: 700002508 | C555: Aflatoxin MRM 8097 Med 100g | D555: =Products[[#This Row],[Old]]&" "&Products[[#This Row],[New]]&" "&Products[[#This Row],[Desc]] -> 8097 700002508 Aflatoxin MRM 8097 Med 100g | E555: =IF(ISNUMBER(SEARCH('Item Lookup'!$B$7,Products[[#This Row],[Compounded]],1)),'Item Lookup'!$B$7,"") -> 0
A556: 8098 | B556: 700002509 | C556: Aflatoxin MRM 8098 High 100g | D556: =Products[[#This Row],[Old]]&" "&Products[[#This Row],[New]]&" "&Products[[#This Row],[Desc]] -> 8098 700002509 Aflatoxin MRM 8098 High 100g | E556: =IF(ISNUMBER(SEARCH('Item Lookup'!$B$7,Products[[#This Row],[Compounded]],1)),'Item Lookup'!$B$7,"") -> 0
A557: 8100 | B557: 700002511 | C557: Reveal for Ruminant in Feed | D557: =Products[[#This Row],[Old]]&" "&Products[[#This Row],[New]]&" "&Products[[#This Row],[Desc]] -> 8100 700002511 Reveal for Ruminant in Feed | E557: =IF(ISNUMBER(SEARCH('Item Lookup'!$B$7,Products[[#This Row],[Compounded]],1)),'Item Lookup'!$B$7,"") -> 0
A558: 8105 | B558: 700002512 | C558: Reveal for Ruminant in MBM | D558: =Products[[#This Row],[Old]]&" "&Products[[#This Row],[New]]&" "&Products[[#This Row],[Desc]] -> 8105 700002512 Reveal for Ruminant in MBM | E558: =IF(ISNUMBER(SEARCH('Item Lookup'!$B$7,Products[[#This Row],[Compounded]],1)),'Item Lookup'!$B$7,"") -> 0
A559: 8110 | B559: 700002513 | C559: Veratox for Zearalenone | D559: =Products[[#This Row],[Old]]&" "&Products[[#This Row],[New]]&" "&Products[[#This Row],[Desc]] -> 8110 700002513 Veratox for Zearalenone | E559: =IF(ISNUMBER(SEARCH('Item Lookup'!$B$7,Products[[#This Row],[Compounded]],1)),'Item Lookup'!$B$7,"") -> 0
A560: 8135 | B560: 700002514 | C560: Veratox MAX for Zearalenone | D560: =Products[[#This Row],[Old]]&" "&Products[[#This Row],[New]]&" "&Products[[#This Row],[Desc]] -> 8135 700002514 Veratox MAX for Zearalenone | E560: =IF(ISNUMBER(SEARCH('Item Lookup'!$B$7,Products[[#This Row],[Compounded]],1)),'Item Lookup'!$B$7,"") -> 0
A561: 8185 | B561: 700002515 | C561: Reveal Q+ for Zearalenone | D561: =Products[[#This Row],[Old]]&" "&Products[[#This Row],[New]]&" "&Products[[#This Row],[Desc]] -> 8185 700002515 Reveal Q+ for Zearalenone | E561: =IF(ISNUMBER(SEARCH('Item Lookup'!$B$7,Products[[#This Row],[Compounded]],1)),'Item Lookup'!$B$7,"") -> 0
A562: 8188 | B562: 700002516 | C562: Reveal Q+ Max for Zearalenone | D562: =Products[[#This Row],[Old]]&" "&Products[[#This Row],[New]]&" "&Products[[#This Row],[Desc]] -> 8188 700002516 Reveal Q+ Max for Zearalenone | E562: =IF(ISNUMBER(SEARCH('Item Lookup'!$B$7,Products[[#This Row],[Compounded]],1)),'Item Lookup'!$B$7,"") -> 0
A563: 8192C | B563: 700002518 | C563: Zearalenone Corn MRM, Low 1Kg | D563: =Products[[#This Row],[Old]]&" "&Products[[#This Row],[New]]&" "&Products[[#This Row],[Desc]] -> 8192C 700002518 Zearalenone Corn MRM, Low 1Kg | E563: =IF(ISNUMBER(SEARCH('Item Lookup'!$B$7,Products[[#This Row],[Compounded]],1)),'Item Lookup'!$B$7,"") -> 0
A564: 8194C | B564: 700002519 | C564: Zearalenone Corn MRM, High 1Kg | D564: =Products[[#This Row],[Old]]&" "&Products[[#This Row],[New]]&" "&Products[[#This Row],[Desc]] -> 8194C 700002519 Zearalenone Corn MRM, High 1Kg | E564: =IF(ISNUMBER(SEARCH('Item Lookup'!$B$7,Products[[#This Row],[Compounded]],1)),'Item Lookup'!$B$7,"") -> 0
...
