Workbook

Sheet Item Lookup
D2: SKU Transition Tool
B6: Search by Old SKU , New SKU, 3M Catalog# or Description Keyword
B9: Old SKU | C9: New SKU | D9: Product Description
B11: {=(_xlfn._xlws.FILTER(Products[#All],(Products[[#All],[Key]]=$B$7),"Sorry, item not found. Please try again using another keyword"))} -> 7000043162 | C11: 700007424 | D11: MLS Medium Bottle Holder | E11: 7000043162 700007424 MLS Medium Bottle Holder | F11: 0
B12: 7100089091 | C12: 700007425 | D12: MLS MAINTENANCE KIT C, NEW SYRINGE | E12: 7100089091 700007425 MLS MAINTENANCE KIT C, NEW SYRINGE | F12: 0
B13: 7000043163 | C13: 700007426 | D13: MLS Large Bottle Holder | E13: 7000043163 700007426 MLS Large Bottle Holder | F13: 0
B14: 7000043163 | C14: 700007426 | D14: MLS Large Bottle Holder | E14: 7000043163 700007426 MLS Large Bottle Holder | F14: 0
B15: 7000138460 | C15: 700007427 | D15: MLS PUMP DILUTER VP9101 | E15: 7000138460 700007427 MLS PUMP DILUTER VP9101 | F15: 0
B16: 7100007903 | C16: 700007428 | D16: MLS TUBING PUMP CLUTCH REAGENT A | E16: 7100007903 700007428 MLS TUBING PUMP CLUTCH REAGENT A | F16: 0
B17: 7100007905 | C17: 700007429 | D17: MLS TUBING PUMP CLUTCH REAGENT B | E17: 7100007905 700007429 MLS TUBING PUMP CLUTCH REAGENT B | F17: 0
B18: 7100007906 | C18: 700007430 | D18: MLS TUBING PUMP CLUTCH REAGENT C | E18: 7100007906 700007430 MLS TUBING PUMP CLUTCH REAGENT C | F18: 0
B19: 7100007907 | C19: 700007431 | D19: MLS TUBING PUMP REAGENT A | E19: 7100007907 700007431 MLS TUBING PUMP REAGENT A | F19: 0
B20: 7100007908 | C20: 700007432 | D20: MLS TUBING PUMP REAGENT B | E20: 7100007908 700007432 MLS TUBING PUMP REAGENT B | F20: 0
B21: 7100007909 | C21: 700007433 | D21: MLS TUBING PUMP REAGENT C | E21: 7100007909 700007433 MLS TUBING PUMP REAGENT C | F21: 0
B22: 7100007910 | C22: 700007434 | D22: MLS TUBING INJECTOR CLUTCH REAGENT A | E22: 7100007910 700007434 MLS TUBING INJECTOR CLUTCH REAGENT A | F22: 0
B23: 7100007911 | C23: 700007435 | D23: MLS TUBING INJECTOR CLUTCH REAGENT B | E23: 7100007911 700007435 MLS TUBING INJECTOR CLUTCH REAGENT B | F23: 0
... B443: 3132 | C443: 700002358 | D443: Glove BLU Nitrile M 10pk | E443: 3132 700002358 Glove BLU Nitrile M 10pk | F443: 0
B444: 403291/1 | C444: 700002359 | D444: COMPANION Disinfectant 1 gal | E444: 403291/1 700002359 COMPANION Disinfectant 1 gal | F444: 0
B445: 404184/1 | C445: 700002360 | D445: Dyne-O-Might 1gal | E445: 404184/1 700002360 Dyne-O-Might 1gal | F445: 0
B446: 404184/275 | C446: 700002361 | D446: Dyne-O-Might 1gal | E446: 404184/275 700002361 Dyne-O-Might 1gal | F446: 0
B447: 404184/5 | C447: 700002362 | D447: Dyne-O-Might 5gal Pail | E447: 404184/5 700002362 Dyne-O-Might 5gal Pail | F447: 0
B448: 404184/55 | C448: 700002363 | D448: Dyne-O-Might 55gal Drum | E448: 404184/55 700002363 Dyne-O-Might 55gal Drum | F448: 0
B449: 404184/55-CAN | C449: 700002364 | D449: Dyne-O-Might 208L Drum CAN | E449: 404184/55-CAN 700002364 Dyne-O-Might 208L Drum CAN | F449: 0
B450: 404184/5-CAN | C450: 700002365 | D450: Dyne-O-Might 18.9L Pail CAN | E450: 404184/5-CAN 700002365 Dyne-O-Might 18.9L Pail CAN | F450: 0
B451: 406047/2.5 | C451: 700002366 | D451: Peraside 5%, 2.5gal Pail | E451: 406047/2.5 700002366 Peraside 5%, 2.5gal Pail | F451: 0
B452: 406047/250-CAN | C452: 700002367 | D452: Peraside 950L (250gal) Tote CAN | E452: 406047/250-CAN 700002367 Peraside 950L (250gal) Tote CAN | F452: 0
B453: 406047/5-CAN | C453: 700002368 | D453: Peraside 5gal CAN | E453: 406047/5-CAN 700002368 Peraside 5gal CAN | F453: 0
B454: 413090/1 | C454: 700002369 | D454: Mycocide 1gal | E454: 413090/1 700002369 Mycocide 1gal | F454: 0
B455: 413090/15 | C455: 700002370 | D455: Mycocide 15gal drum | E455: 413090/15 700002370 Mycocide 15gal drum | F455: 0
... B488: 490912/6 | C488: 700002405 | D488: COMPANION Foaming Hand Soap 16.9oz | E488: 490912/6 700002405 COMPANION Foaming Hand Soap 16.9oz | F488: 0
B489: 57267 | C489: 700002406 | D489: Tryptose Phosphate Broth (Hawkins)- 500G | E489: 57267 700002406 Tryptose Phosphate Broth (Hawkins)- 500G | F489: 0
B490: 602377A | C490: 700002407 | D490: Incubator, Dairy 5 Minute | E490: 602377A 700002407 Incubator, Dairy 5 Minute | F490: 0
B491: 6500 | C491: 700002408 | D491: m-ENDO Broth, 2 mL (box of 50) | E491: 6500 700002408 m-ENDO Broth, 2 mL (box of 50) | F491: 0
B492: 6505 | C492: 700002409 | D492: m-Green Y & F Broth, 2mL (box of 50) | E492: 6505 700002409 m-Green Y & F Broth, 2mL (box of 50) | F492: 0
B493: 6506 | C493: 700002410 | D493: Rapid m-Green Selective Broth Ampoules | E493: 6506 700002410 Rapid m-Green Selective Broth Ampoules | F493: 0
B494: 6510 | C494: 700002411 | D494: Ampouled Media, MI Broth, 2 mL (50/box) | E494: 6510 700002411 Ampouled Media, MI Broth, 2 mL (50/box) | F494: 0
B495: 6511 | C495: 700002412 | D495: m-Ecoli/Coliform Ampoule | E495: 6511 700002412 m-Ecoli/Coliform Ampoule | F495: 0
B496: 6515 | C496: 700002413 | D496: m-TGE Broth, 2.5 mL (box of 50) | E496: 6515 700002413 m-TGE Broth, 2.5 mL (box of 50) | F496: 0
B497: 6516 | C497: 700002414 | D497: m-TGE with Indicator Ampoules | E497: 6516 700002414 m-TGE with Indicator Ampoules | F497: 0
B498: 6520 | C498: 700002415 | D498: Ampouled Media, PRY Broth, 2 mL (50/box) | E498: 6520 700002415 Ampouled Media, PRY Broth, 2 mL (50/box) | F498: 0
...

Sheet table
A1: Old | B1: New | C1: Desc | D1: Compounded | E1: Key
A2: 7000043162 | B2: 700007424 | C2: MLS Medium Bottle Holder | D2: =Products[[#This Row],[Old]]&" "&Products[[#This Row],[New]]&" "&Products[[#This Row],[Desc]] -> 7000043162 700007424 MLS Medium Bottle Holder | E2: =IF(ISNUMBER(SEARCH('Item Lookup'!$B$7,Products[[#This Row],[Compounded]],1)),'Item Lookup'!$B$7,"") -> 0
A3: 7100089091 | B3: 700007425 | C3: MLS MAINTENANCE KIT C, NEW SYRINGE | D3: =Products[[#This Row],[Old]]&" "&Products[[#This Row],[New]]&" "&Products[[#This Row],[Desc]] -> 7100089091 700007425 MLS MAINTENANCE KIT C, NEW SYRINGE | E3: =IF(ISNUMBER(SEARCH('Item Lookup'!$B$7,Products[[#This Row],[Compounded]],1)),'Item Lookup'!$B$7,"") -> 0
A4: 7000043163 | B4: 700007426 | C4: MLS Large Bottle Holder | D4: =Products[[#This Row],[Old]]&" "&Products[[#This Row],[New]]&" "&Products[[#This Row],[Desc]] -> 7000043163 700007426 MLS Large Bottle Holder | E4: =IF(ISNUMBER(SEARCH('Item Lookup'!$B$7,Products[[#This Row],[Compounded]],1)),'Item Lookup'!$B$7,"") -> 0
A5: 7000043163 | B5: 700007426 | C5: MLS Large Bottle Holder | D5: =Products[[#This Row],[Old]]&" "&Products[[#This Row],[New]]&" "&Products[[#This Row],[Desc]] -> 7000043163 700007426 MLS Large Bottle Holder | E5: =IF(ISNUMBER(SEARCH('Item Lookup'!$B$7,Products[[#This Row],[Compounded]],1)),'Item Lookup'!$B$7,"") -> 0
A6: 7000138460 | B6: 700007427 | C6: MLS PUMP DILUTER VP9101 | D6: =Products[[#This Row],[Old]]&" "&Products[[#This Row],[New]]&" "&Products[[#This Row],[Desc]] -> 7000138460 700007427 MLS PUMP DILUTER VP9101 | E6: =IF(ISNUMBER(SEARCH('Item Lookup'!$B$7,Products[[#This Row],[Compounded]],1)),'Item Lookup'!$B$7,"") -> 0
A7: 7100007903 | B7: 700007428 | C7: MLS TUBING PUMP CLUTCH REAGENT A | D7: =Products[[#This Row],[Old]]&" "&Products[[#This Row],[New]]&" "&Products[[#This Row],[Desc]] -> 7100007903 700007428 MLS TUBING PUMP CLUTCH REAGENT A | E7: =IF(ISNUMBER(SEARCH('Item Lookup'!$B$7,Products[[#This Row],[Compounded]],1)),'Item Lookup'!$B$7,"") -> 0
A8: 7100007905 | B8: 700007429 | C8: MLS TUBING PUMP CLUTCH REAGENT B | D8: =Products[[#This Row],[Old]]&" "&Products[[#This Row],[New]]&" "&Products[[#This Row],[Desc]] -> 7100007905 700007429 MLS TUBING PUMP CLUTCH REAGENT B | E8: =IF(ISNUMBER(SEARCH('Item Lookup'!$B$7,Products[[#This Row],[Compounded]],1)),'Item Lookup'!$B$7,"") -> 0
A9: 7100007906 | B9: 700007430 | C9: MLS TUBING PUMP CLUTCH REAGENT C | D9: =Products[[#This Row],[Old]]&" "&Products[[#This Row],[New]]&" "&Products[[#This Row],[Desc]] -> 7100007906 700007430 MLS TUBING PUMP CLUTCH REAGENT C | E9: =IF(ISNUMBER(SEARCH('Item Lookup'!$B$7,Products[[#This Row],[Compounded]],1)),'Item Lookup'!$B$7,"") -> 0
A10: 7100007907 | B10: 700007431 | C10: MLS TUBING PUMP REAGENT A | D10: =Products[[#This Row],[Old]]&" "&Products[[#This Row],[New]]&" "&Products[[#This Row],[Desc]] -> 7100007907 700007431 MLS TUBING PUMP REAGENT A | E10: =IF(ISNUMBER(SEARCH('Item Lookup'!$B$7,Products[[#This Row],[Compounded]],1)),'Item Lookup'!$B$7,"") -> 0
A11: 7100007908 | B11: 700007432 | C11: MLS TUBING PUMP REAGENT B | D11: =Products[[#This Row],[Old]]&" "&Products[[#This Row],[New]]&" "&Products[[#This Row],[Desc]] -> 7100007908 700007432 MLS TUBING PUMP REAGENT B | E11: =IF(ISNUMBER(SEARCH('Item Lookup'!$B$7,Products[[#This Row],[Compounded]],1)),'Item Lookup'!$B$7,"") -> 0
A12: 7100007909 | B12: 700007433 | C12: MLS TUBING PUMP REAGENT C | D12: =Products[[#This Row],[Old]]&" "&Products[[#This Row],[New]]&" "&Products[[#This Row],[Desc]] -> 7100007909 700007433 MLS TUBING PUMP REAGENT C | E12: =IF(ISNUMBER(SEARCH('Item Lookup'!$B$7,Products[[#This Row],[Compounded]],1)),'Item Lookup'!$B$7,"") -> 0
A13: 7100007910 | B13: 700007434 | C13: MLS TUBING INJECTOR CLUTCH REAGENT A | D13: =Products[[#This Row],[Old]]&" "&Products[[#This Row],[New]]&" "&Products[[#This Row],[Desc]] -> 7100007910 700007434 MLS TUBING INJECTOR CLUTCH REAGENT A | E13: =IF(ISNUMBER(SEARCH('Item Lookup'!$B$7,Products[[#This Row],[Compounded]],1)),'Item Lookup'!$B$7,"") -> 0
... A434: 3132 | B434: 700002358 | C434: Glove BLU Nitrile M 10pk | D434: =Products[[#This Row],[Old]]&" "&Products[[#This Row],[New]]&" "&Products[[#This Row],[Desc]] -> 3132 700002358 Glove BLU Nitrile M 10pk | E434: =IF(ISNUMBER(SEARCH('Item Lookup'!$B$7,Products[[#This Row],[Compounded]],1)),'Item Lookup'!$B$7,"") -> 0
A435: 403291/1 | B435: 700002359 | C435: COMPANION Disinfectant 1 gal | D435: =Products[[#This Row],[Old]]&" "&Products[[#This Row],[New]]&" "&Products[[#This Row],[Desc]] -> 403291/1 700002359 COMPANION Disinfectant 1 gal | E435: =IF(ISNUMBER(SEARCH('Item Lookup'!$B$7,Products[[#This Row],[Compounded]],1)),'Item Lookup'!$B$7,"") -> 0
A436: 404184/1 | B436: 700002360 | C436: Dyne-O-Might 1gal | D436: =Products[[#This Row],[Old]]&" "&Products[[#This Row],[New]]&" "&Products[[#This Row],[Desc]] -> 404184/1 700002360 Dyne-O-Might 1gal | E436: =IF(ISNUMBER(SEARCH('Item Lookup'!$B$7,Products[[#This Row],[Compounded]],1)),'Item Lookup'!$B$7,"") -> 0
A437: 404184/275 | B437: 700002361 | C437: Dyne-O-Might 1gal | D437: =Products[[#This Row],[Old]]&" "&Products[[#This Row],[New]]&" "&Products[[#This Row],[Desc]] -> 404184/275 700002361 Dyne-O-Might 1gal | E437: =IF(ISNUMBER(SEARCH('Item Lookup'!$B$7,Products[[#This Row],[Compounded]],1)),'Item Lookup'!$B$7,"") -> 0
A438: 404184/5 | B438: 700002362 | C438: Dyne-O-Might 5gal Pail | D438: =Products[[#This Row],[Old]]&" "&Products[[#This Row],[New]]&" "&Products[[#This Row],[Desc]] -> 404184/5 700002362 Dyne-O-Might 5gal Pail | E438: =IF(ISNUMBER(SEARCH('Item Lookup'!$B$7,Products[[#This Row],[Compounded]],1)),'Item Lookup'!$B$7,"") -> 0
A439: 404184/55 | B439: 700002363 | C439: Dyne-O-Might 55gal Drum | D439: =Products[[#This Row],[Old]]&" "&Products[[#This Row],[New]]&" "&Products[[#This Row],[Desc]] -> 404184/55 700002363 Dyne-O-Might 55gal Drum | E439: =IF(ISNUMBER(SEARCH('Item Lookup'!$B$7,Products[[#This Row],[Compounded]],1)),'Item Lookup'!$B$7,"") -> 0
A440: 404184/55-CAN | B440: 700002364 | C440: Dyne-O-Might 208L Drum CAN | D440: =Products[[#This Row],[Old]]&" "&Products[[#This Row],[New]]&" "&Products[[#This Row],[Desc]] -> 404184/55-CAN 700002364 Dyne-O-Might 208L Drum CAN | E440: =IF(ISNUMBER(SEARCH('Item Lookup'!$B$7,Products[[#This Row],[Compounded]],1)),'Item Lookup'!$B$7,"") -> 0
A441: 404184/5-CAN | B441: 700002365 | C441: Dyne-O-Might 18.9L Pail CAN | D441: =Products[[#This Row],[Old]]&" "&Products[[#This Row],[New]]&" "&Products[[#This Row],[Desc]] -> 404184/5-CAN 700002365 Dyne-O-Might 18.9L Pail CAN | E441: =IF(ISNUMBER(SEARCH('Item Lookup'!$B$7,Products[[#This Row],[Compounded]],1)),'Item Lookup'!$B$7,"") -> 0
A442: 406047/2.5 | B442: 700002366 | C442: Peraside 5%, 2.5gal Pail | D442: =Products[[#This Row],[Old]]&" "&Products[[#This Row],[New]]&" "&Products[[#This Row],[Desc]] -> 406047/2.5 700002366 Peraside 5%, 2.5gal Pail | E442: =IF(ISNUMBER(SEARCH('Item Lookup'!$B$7,Products[[#This Row],[Compounded]],1)),'Item Lookup'!$B$7,"") -> 0
A443: 406047/250-CAN | B443: 700002367 | C443: Peraside 950L (250gal) Tote CAN | D443: =Products[[#This Row],[Old]]&" "&Products[[#This Row],[New]]&" "&Products[[#This Row],[Desc]] -> 406047/250-CAN 700002367 Peraside 950L (250gal) Tote CAN | E443: =IF(ISNUMBER(SEARCH('Item Lookup'!$B$7,Products[[#This Row],[Compounded]],1)),'Item Lookup'!$B$7,"") -> 0
A444: 406047/5-CAN | B444: 700002368 | C444: Peraside 5gal CAN | D444: =Products[[#This Row],[Old]]&" "&Products[[#This Row],[New]]&" "&Products[[#This Row],[Desc]] -> 406047/5-CAN 700002368 Peraside 5gal CAN | E444: =IF(ISNUMBER(SEARCH('Item Lookup'!$B$7,Products[[#This Row],[Compounded]],1)),'Item Lookup'!$B$7,"") -> 0
A445: 413090/1 | B445: 700002369 | C445: Mycocide 1gal | D445: =Products[[#This Row],[Old]]&" "&Products[[#This Row],[New]]&" "&Products[[#This Row],[Desc]] -> 413090/1 700002369 Mycocide 1gal | E445: =IF(ISNUMBER(SEARCH('Item Lookup'!$B$7,Products[[#This Row],[Compounded]],1)),'Item Lookup'!$B$7,"") -> 0
A446: 413090/15 | B446: 700002370 | C446: Mycocide 15gal drum | D446: =Products[[#This Row],[Old]]&" "&Products[[#This Row],[New]]&" "&Products[[#This Row],[Desc]] -> 413090/15 700002370 Mycocide 15gal drum | E446: =IF(ISNUMBER(SEARCH('Item Lookup'!$B$7,Products[[#This Row],[Compounded]],1)),'Item Lookup'!$B$7,"") -> 0
... A479: 490912/6 | B479: 700002405 | C479: COMPANION Foaming Hand Soap 16.9oz | D479: =Products[[#This Row],[Old]]&" "&Products[[#This Row],[New]]&" "&Products[[#This Row],[Desc]] -> 490912/6 700002405 COMPANION Foaming Hand Soap 16.9oz | E479: =IF(ISNUMBER(SEARCH('Item Lookup'!$B$7,Products[[#This Row],[Compounded]],1)),'Item Lookup'!$B$7,"") -> 0
A480: 57267 | B480: 700002406 | C480: Tryptose Phosphate Broth (Hawkins)- 500G | D480: =Products[[#This Row],[Old]]&" "&Products[[#This Row],[New]]&" "&Products[[#This Row],[Desc]] -> 57267 700002406 Tryptose Phosphate Broth (Hawkins)- 500G | E480: =IF(ISNUMBER(SEARCH('Item Lookup'!$B$7,Products[[#This Row],[Compounded]],1)),'Item Lookup'!$B$7,"") -> 0
A481: 602377A | B481: 700002407 | C481: Incubator, Dairy 5 Minute | D481: =Products[[#This Row],[Old]]&" "&Products[[#This Row],[New]]&" "&Products[[#This Row],[Desc]] -> 602377A 700002407 Incubator, Dairy 5 Minute | E481: =IF(ISNUMBER(SEARCH('Item Lookup'!$B$7,Products[[#This Row],[Compounded]],1)),'Item Lookup'!$B$7,"") -> 0
A482: 6500 | B482: 700002408 | C482: m-ENDO Broth, 2 mL (box of 50) | D482: =Products[[#This Row],[Old]]&" "&Products[[#This Row],[New]]&" "&Products[[#This Row],[Desc]] -> 6500 700002408 m-ENDO Broth, 2 mL (box of 50) | E482: =IF(ISNUMBER(SEARCH('Item Lookup'!$B$7,Products[[#This Row],[Compounded]],1)),'Item Lookup'!$B$7,"") -> 0
A483: 6505 | B483: 700002409 | C483: m-Green Y & F Broth, 2mL (box of 50) | D483: =Products[[#This Row],[Old]]&" "&Products[[#This Row],[New]]&" "&Products[[#This Row],[Desc]] -> 6505 700002409 m-Green Y & F Broth, 2mL (box of 50) | E483: =IF(ISNUMBER(SEARCH('Item Lookup'!$B$7,Products[[#This Row],[Compounded]],1)),'Item Lookup'!$B$7,"") -> 0
A484: 6506 | B484: 700002410 | C484: Rapid m-Green Selective Broth Ampoules | D484: =Products[[#This Row],[Old]]&" "&Products[[#This Row],[New]]&" "&Products[[#This Row],[Desc]] -> 6506 700002410 Rapid m-Green Selective Broth Ampoules | E484: =IF(ISNUMBER(SEARCH('Item Lookup'!$B$7,Products[[#This Row],[Compounded]],1)),'Item Lookup'!$B$7,"") -> 0
A485: 6510 | B485: 700002411 | C485: Ampouled Media, MI Broth, 2 mL (50/box) | D485: =Products[[#This Row],[Old]]&" "&Products[[#This Row],[New]]&" "&Products[[#This Row],[Desc]] -> 6510 700002411 Ampouled Media, MI Broth, 2 mL (50/box) | E485: =IF(ISNUMBER(SEARCH('Item Lookup'!$B$7,Products[[#This Row],[Compounded]],1)),'Item Lookup'!$B$7,"") -> 0
A486: 6511 | B486: 700002412 | C486: m-Ecoli/Coliform Ampoule | D486: =Products[[#This Row],[Old]]&" "&Products[[#This Row],[New]]&" "&Products[[#This Row],[Desc]] -> 6511 700002412 m-Ecoli/Coliform Ampoule | E486: =IF(ISNUMBER(SEARCH('Item Lookup'!$B$7,Products[[#This Row],[Compounded]],1)),'Item Lookup'!$B$7,"") -> 0
A487: 6515 | B487: 700002413 | C487: m-TGE Broth, 2.5 mL (box of 50) | D487: =Products[[#This Row],[Old]]&" "&Products[[#This Row],[New]]&" "&Products[[#This Row],[Desc]] -> 6515 700002413 m-TGE Broth, 2.5 mL (box of 50) | E487: =IF(ISNUMBER(SEARCH('Item Lookup'!$B$7,Products[[#This Row],[Compounded]],1)),'Item Lookup'!$B$7,"") -> 0
A488: 6516 | B488: 700002414 | C488: m-TGE with Indicator Ampoules | D488: =Products[[#This Row],[Old]]&" "&Products[[#This Row],[New]]&" "&Products[[#This Row],[Desc]] -> 6516 700002414 m-TGE with Indicator Ampoules | E488: =IF(ISNUMBER(SEARCH('Item Lookup'!$B$7,Products[[#This Row],[Compounded]],1)),'Item Lookup'!$B$7,"") -> 0
A489: 6520 | B489: 700002415 | C489: Ampouled Media, PRY Broth, 2 mL (50/box) | D489: =Products[[#This Row],[Old]]&" "&Products[[#This Row],[New]]&" "&Products[[#This Row],[Desc]] -> 6520 700002415 Ampouled Media, PRY Broth, 2 mL (50/box) | E489: =IF(ISNUMBER(SEARCH('Item Lookup'!$B$7,Products[[#This Row],[Compounded]],1)),'Item Lookup'!$B$7,"") -> 0
A490: 6525 | B490: 700002416 | C490: Orange Serum Broth, 2.5 mL (box of 50) | D490: =Products[[#This Row],[Old]]&" "&Products[[#This Row],[New]]&" "&Products[[#This Row],[Desc]] -> 6525 700002416 Orange Serum Broth, 2.5 mL (box of 50) | E490: =IF(ISNUMBER(SEARCH('Item Lookup'!$B$7,Products[[#This Row],[Compounded]],1)),'Item Lookup'!$B$7,"") -> 0
A491: 6530 | B491: 700002417 | C491: m-FC w/ Rosolic Acid, 2 mL (box of 50) | D491: =Products[[#This Row],[Old]]&" "&Products[[#This Row],[New]]&" "&Products[[#This Row],[Desc]] -> 6530 700002417 m-FC w/ Rosolic Acid, 2 mL (box of 50) | E491: =IF(ISNUMBER(SEARCH('Item Lookup'!$B$7,Products[[#This Row],[Compounded]],1)),'Item Lookup'!$B$7,"") -> 0
A492: 6530B | B492: 700002418 | C492: m-FC Broth, 2 mL (Box of 500) | D492: =Products[[#This Row],[Old]]&" "&Products[[#This Row],[New]]&" "&Products[[#This Row],[Desc]] -> 6530B 700002418 m-FC Broth, 2 mL (Box of 500) | E492: =IF(ISNUMBER(SEARCH('Item Lookup'!$B$7,Products[[#This Row],[Compounded]],1)),'Item Lookup'!$B$7,"") -> 0
...
